BEGIN:VCALENDAR
VERSION:2.0
PRODID:-//World Class Maintenance - ECPv6.15.18//NONSGML v1.0//EN
CALSCALE:GREGORIAN
METHOD:PUBLISH
X-ORIGINAL-URL:https://www.worldclassmaintenance.com
X-WR-CALDESC:Evenementen voor World Class Maintenance
REFRESH-INTERVAL;VALUE=DURATION:PT1H
X-Robots-Tag:noindex
X-PUBLISHED-TTL:PT1H
BEGIN:VTIMEZONE
TZID:Europe/Amsterdam
BEGIN:DAYLIGHT
TZOFFSETFROM:+0100
TZOFFSETTO:+0200
TZNAME:CEST
DTSTART:20190331T010000
END:DAYLIGHT
BEGIN:STANDARD
TZOFFSETFROM:+0200
TZOFFSETTO:+0100
TZNAME:CET
DTSTART:20191027T010000
END:STANDARD
BEGIN:DAYLIGHT
TZOFFSETFROM:+0100
TZOFFSETTO:+0200
TZNAME:CEST
DTSTART:20200329T010000
END:DAYLIGHT
BEGIN:STANDARD
TZOFFSETFROM:+0200
TZOFFSETTO:+0100
TZNAME:CET
DTSTART:20201025T010000
END:STANDARD
BEGIN:DAYLIGHT
TZOFFSETFROM:+0100
TZOFFSETTO:+0200
TZNAME:CEST
DTSTART:20210328T010000
END:DAYLIGHT
BEGIN:STANDARD
TZOFFSETFROM:+0200
TZOFFSETTO:+0100
TZNAME:CET
DTSTART:20211031T010000
END:STANDARD
END:VTIMEZONE
BEGIN:VTIMEZONE
TZID:UTC
BEGIN:STANDARD
TZOFFSETFROM:+0000
TZOFFSETTO:+0000
TZNAME:UTC
DTSTART:20160101T000000
END:STANDARD
END:VTIMEZONE
BEGIN:VEVENT
DTSTART;TZID=Europe/Amsterdam:20201006T130000
DTEND;TZID=Europe/Amsterdam:20201006T181500
DTSTAMP:20260423T220343
CREATED:20200210T161741Z
LAST-MODIFIED:20200929T135346Z
UID:6089-1601989200-1602008100@www.worldclassmaintenance.com
SUMMARY:WCM Jaarevent 2020 - Toekomstbestendig met smart maintenance - Geannuleerd
DESCRIPTION:Het WCM Jaarevent 2020 is geannuleerd\nInspirerende keynotes\, workshops\, scripties\, praktijkvoorbeelden\, brainstorms en presentaties\, die bijdragen aan toekomstbestendig zijn met smart maintenance. Het programma is helemaal rond\, de locaties Zoetermeer\, Gilze-Rijen\, Zwolle en Venlo zijn klaar en de sprekers zijn gebriefd en volop bezig om een spetterende presentatie neer te zetten. Klaar voor ons jaarlijkse feestelijke event samen! \nPersconferentie coronacrisis\nDe persconferentie over de coronacrisis van maandagavond 28 september heeft ons helaas doen besluiten ons jaarevent te annuleren. We leggen de oproep van de overheid niet naast ons neer. We maken hiermee een pas op de plaats en nemen onze verantwoordelijkheid om samen met de industrie en samenleving toekomstbestendig te blijven. \nGeannuleerd\nWe danken alle leveranciers\, sprekers en workshopleiders voor hun enthousiaste inzet en hopen volgend jaar weer een mooi en inspirerend event te organiseren. Ook willen we de deelnemers bedanken voor de blijk van waardering door de aanmelding voor het event. We informeren alle deelnemers per mail over het vervolg. \nMaintenance Research Awards\nDe winnaars van de Maintenance Research Awards maken we wél bekend op 6 oktober dus houd onze website en LinkedIn in de gaten. \nKeynote sprekers\n\nArjan Schuinder\, Sales & Marketing bij Betech Group: “De machine laat zelf weten wanneer een beitel versleten is” \n\n \nIedereen heeft het over Industry 4.0\, maar hoe start je daarmee? Arjan Schuinder vertelt over de praktische manier waarop Betech Group Industry 4.0 is aangevlogen. Ze zijn tegen veel zaken aangelopen die goed gaan\, maar ook die fout gaan. De aanpak en resultaten hebben Betech de titel voorbeeldbedrijf voor het innovatieprogramma ‘industrie 4.0’ opgeleverd. Digitalisering\, data en samenwerking zijn hierbij leidende woorden. Een operator bedient meerdere machines en deze zijn gekoppeld aan alle eigen systemen en aan die van de leverancier. De machine voorspelt vervolgens zelf hoe de productie gaat lopen\, hoe het meest optimale proces te pakken en of de gereedschappen aanwezig zijn. De machines bestellen het materiaal volledig geautomatiseerd en plannen dit in zonder tussenkomst van mensen. Deze zeer hoge mate van automatisering heeft Betech in coronatijd ook in nieuwe branches snel wendbaar gemaakt. \n\nKitting Lee\, Director Business & Innovation bij BAM Infra Nederland: “Samen winnen met artificial intelligence” \n\n \nNiet alleen de bereikbaarheid\, maar ook de doorstroming van onze steden en mainports is van groot belang voor onze economie. Door inzet van AI is Bam Infra in staat om de huidige infrastructuur beter te benutten\, zodat mensen en logistiek in beweging blijven. Tegelijkertijd stijgt de waarde van data. Het wordt belangrijk om met elkaar de kennis en de data te delen\, waardoor we als Nederland een economische koppositie innemen in de ontwikkeling van AI. Maar hoe implementeer je AI? Kitting Lee laat use cases en lessons learned aan bod komen. \nBAM Infra maakt bij Asset management meer en meer gebruik van AI\, machine learning en zelflerende software. Door slim gebruik van big data kunnen zij precies zien of bepaalde onderhoudswerkzaamheden eerder dan gepland nodig zijn\, maar ook wanneer verwacht onderhoud juist nog even niet aan de orde is. “Kostenbesparing én verhoogde productiecapaciteit: met AI voer je periodiek onderhoud en reparatie op het juiste moment uit: soms eerder\, soms later dan gepland.” \n\nStaf Seurinck\, Country Managing Director & Local Business Manager Motion Nederland bij ABB: “Naar autonomere fabrieken” \n\n \nHoe gaan de fabrieken van de toekomst eruit zien? Hoe predictief en prescriptief onderhoud implementeren? Hoe technologie aanwenden om ons werk fysiek makkelijker en mentaal uitdagender en dus leuker te maken? Hoe ondersteunen we medewerkers om autonomer te beslissen en te acteren? Hoe bijdragen aan de zakelijke uitdagingen om verder kosten te verlagen\, productiviteit te verhogen\, kwaliteit te maximaliseren en flexibiliteit te optimaliseren. \nWorkshops in Gilze-Rijen\n\nPaul van Kempen\, operationeel directeur bij WCM: Fieldlab Campione \n\nFieldlab Campione heeft veel technologische innovaties opgeleverd. Nu is het tijd voor de volgende stap! Paul nodigt de zaal uit mee te denken over de nieuwe richting. Gaan we richting duurzaamheid\, richting datasecurity\, ……? \n\nMischa Beckers\, lector Data Science op de HZ University of Applied Sciences: Fieldlab Camino \n\nMischa is betrokken bij meerdere projecten rondom Smart Maintenance binnen en buiten CAMINO. Vanuit zijn expertise op het gebied van Data Science heeft hij al vele analyses gedaan op diverse objecten\, zoals bijvoorbeeld de Zeelandbrug (Provincie Zeeland)\, de KreekrakSluizen (Rijkswaterstaat) en duikers (Waterschap Scheldestromen)\, maar ook warmtepompen (Enduris/DNWG). Mischa zal ons meenemen in zijn ervaringen op dit gebied. Hij bespreekt daarbij vooral best-practices en valkuilen op het gebied van datagedreven onderhoud en assetmanagement\, in de infra\, maar ook daarbuiten. \nWorkshops in Zoetermeer\n\nMarc Hoppenbrouwers\, Principal Consultant at Stork Asset Management Technology: Fieldlab Fortissimo \n\n‘Fortissimo: smart maintenance in Agri & Food’ \n\nHenk Jan ten Hoeve\, Business Manager NLR: Fieldlab Zephyros \n\nHet thema van de workshop van het Fieldlab Zephyros-project AIRTuB is smart industry en technologie. Henk Jan van NLR vertelt over de ontwikkeling van volledig geautomatiseerde en autonome inspectie en reparatie van turbinebladen. Daarbij wordt naast uitwendige schade (erosie) ook structurele degradatie in beeld gebracht en de ontwikkeling hiervan kan worden gevolgd. Ook wordt het geautomatiseerd aanbrengen van coatings onderzocht. \nWorkshops in Venlo\n\nBert Goffings\, Senior Manager Technical bij SABIC: Project Corrosie onder isolatie \n\nBert als voorzitter werkgroep Riskbased CUI van het project Corrosie onder isolatie vertelt wat CUI is en waarom het zo belangrijk is. Wat moet je hiervoor als asset owner in place hebben? Trap niet in de valkuilen van andere bedrijven. Het is ingewikkeld en je hebt te maken met interne guidelines. De werkgroep heeft een tool ontwikkeld om alle onderdelen in place te hebben. Randvoorwaardes zijn awareness en het management moet een visie hebben en de wil om er iets aan te doen. Waar loop je dan vervolgens tegenaan? Bert vertelt een niet-technisch verhaal voor bedrijfsmanagers over Riskbased CUI. \n\nRob Gülickers\, CTO Sitech Services B.V.: Fieldlab SAMEN \n\nHoe kunnen we nu vanuit Sitechs ervaringen in vele pilots en projecten binnen Fieldlab Campione toewerken naar een brede uitrol van Smart Maintenance? Tegen welke zaken lopen zij aan? En hoe wil Fieldlab SAMEN dit aanpakken door de link te leggen tussen technische en sociale innovatie? \nWorkshops in Zwolle\n\nFred Jansen\, programma manager WCM Oost en Senior Bedrijfskundige IJssel: WCM Oost \n\nFred introduceert WCM Oost\, een nieuwe learning community asset management in Oost-Nederland\, die bedrijven stapsgewijs helpt om hun onderhoudsorganisatie naar een hoger plan te tillen. Smart business vormt de insteek van deze workshop. Waar sta je nu als bedrijf? En welke stappen kun je in de toekomst maken? Maak je bedrijf toekomstbestendig door te koersen naar wereldklasse onderhoud. \n\nRoland van de Kerkhof\, projectleider WCM: Skillslab \n\nDe insteek van het WCM-project Skillslab is smart people en het ontwikkelen van smart maintenance skills. In de workshop bespreken we: Wat is het profiel van de onderhoudsmonteur van de toekomst? Op basis van conditiegebaseerd onderhoud krijg je veel meer informatie. Hoe ga je met al die informatie beslissingen nemen? Moet van tevoren alles in de opleiding? Of alleen de technische basiskennis? \nUitreiking Maintenance Awards\n• Awards voor de beste maintenance bachelor-\, PhD- en masterscriptie \n \nImpressie van het WCM Jaarevent 2019
URL:https://www.worldclassmaintenance.com/event/wcm-jaarevent-2020/
LOCATION:Gate 2 in Gilze-Rijen / FME in Zoetermeer / IJssel in Zwolle / Brightlands in Venlo
CATEGORIES:Corrosie onder Isolatie,De Lerende Steen,Fieldlab CAMINO,Fieldlab CAMPIONE,Fieldlab CAPELLA,Fieldlab FORTISSIMO,Fieldlab ZEPHYROS,Hands on Tool Time,World Class Maintenance,World Class Maintenance Oost,World Class Maintenance Zuid
ATTACH;FMTTYPE=image/jpeg:https://www.worldclassmaintenance.com/wp-content/uploads/2020/02/Smart-maintenance-scaled.jpg
END:VEVENT
BEGIN:VEVENT
DTSTART;TZID=Europe/Amsterdam:20200618T130000
DTEND;TZID=Europe/Amsterdam:20200618T141500
DTSTAMP:20260423T220343
CREATED:20200402T121326Z
LAST-MODIFIED:20200615T142138Z
UID:6300-1592485200-1592489700@www.worldclassmaintenance.com
SUMMARY:HoTT-webinar Performanceverbetering Turnarounds
DESCRIPTION:Werken aan performanceverbetering van onderhoud\nTijdens het tweede HoTT-webinar Performanceverbetering voor turnarounds op donderdag 18 juni delen keynote sprekers Marcel de Vreede van Shell Moerdijk en Henk van der Heide van Stork resultaten en best practices van procesoptimalisatie in onderhoudsactiviteiten. \nDe webinar deelnemers leren van de ervaringen van Shell als asset owner en van Stork en PDM als service providers\, die allen verbeteringen op basis van HoTT hebben doorgevoerd. \nKeynote sprekers HoTT-webinar 18 juni\n\nHenk van der Heide\, Turnaround Manager Stork\, over de resultaten van HoTT bij stops\nMarcel de Vreede\, Maintenance Manager Shell Moerdijk\, over het grote potentieel van procesoptimalisatie bij regulier onderhoud\n\nNa deze presentaties is er ruimte voor een online discussie met het publiek. \nOnderhoud optimaliseren\nWorld Class Maintenance\, Stork en PDM deelden in het eerste webinar op 26 mei heldere inzichten in het verbeterpotentieel van de maintenance organisatie. Met de nieuwe industriestandaard voor procesverbeteringen in onderhoudsactiviteiten\, de Hands on Tool Time Toolkit (HoTT)\, bereiken bedrijven aantoonbare en significante verbeteringen bij de uitvoering van onderhoudsactiviteiten. \nMenno van den Berg van Stork en Bart Aretz van PDM vertelden over verbeterkansen dankzij HoTT-metingen en over de techniek van deze meetmethode om mogelijke verliezen te ontdekken\, efficiënter te werken en het complete asset management correct in te stellen\, wat leidt tot productiviteitsverbetering en kostenbesparing. \nNoodzaak\nZeker in de huidige\, onzekere tijd is de noodzaak tot verbeteringen hoog: in het licht van veiligheid en gezondheid voor onderhoudspersoneel tijdens de coronacrisis\, van de vergrijzing op de werkvloer\, van de tekorten die ontstaan in technisch vakpersoneel en van stijgende onderhoudskosten is het efficiënter werken met de mensen die je hebt\, van groot belang. \n  \nSchrijf je ook in voor het tweede HoTT-webinar op 18 juni via onderstaand registratieformulier. \n  \n 
URL:https://www.worldclassmaintenance.com/event/hott-event-performanceverbetering-maintenance/
CATEGORIES:Hands on Tool Time
ATTACH;FMTTYPE=image/jpeg:https://www.worldclassmaintenance.com/wp-content/uploads/2017/12/HoTT-4-scaled.jpg
ORGANIZER;CN="World Class Maintenance":MAILTO:info@worldclassmaintenance.com
END:VEVENT
BEGIN:VEVENT
DTSTART;TZID=Europe/Amsterdam:20200526T120000
DTEND;TZID=Europe/Amsterdam:20200526T123000
DTSTAMP:20260423T220343
CREATED:20200402T114820Z
LAST-MODIFIED:20200512T153200Z
UID:6296-1590494400-1590496200@www.worldclassmaintenance.com
SUMMARY:Webinar | Performanceverbetering van onderhoud
DESCRIPTION:Werken aan performanceverbetering van onderhoud\nWorld Class Maintenance\, Stork en PDM delen in het webinar op 26 mei heldere inzichten in het verbeterpotentieel van de maintenance organisatie. Met de nieuwe industriestandaard voor procesverbeteringen in onderhoudsactiviteiten\, de Hands on Tool Time Toolkit (HoTT)\, bereiken bedrijven aantoonbare en significante verbeteringen bij de uitvoering van onderhoudsactiviteiten. \nOnderhoud optimaliseren\nMenno van den Berg van Stork en Bart Aretz van PDM vertellen op dinsdag 26 mei over verbeterkansen dankzij HoTT-metingen. Leer meer over de techniek van deze meetmethode om mogelijke verliezen te ontdekken\, efficiënter te werken en het complete asset management correct in te stellen\, wat leidt tot productiviteitsverbetering en kostenbesparing. \nHoTT-event\nDit webinar is een opmaat naar het HoTT-event Performanceverbetering maintenance op donderdag 18 juni. Keynote sprekers delen in webinarvorm best practices van procesoptimalisatie in onderhoudsactiviteiten en het effect van HoTT. Deelnemers leren meer over werken met de HoTT-tool en werken aan procesverbetering. \nNoodzaak\nZeker in de huidige\, onzekere tijd is de noodzaak tot verbeteringen hoog: in het licht van veiligheid en gezondheid voor onderhoudspersoneel tijdens de coronacrisis\, van de vergrijzing op de werkvloer\, van de tekorten die ontstaan in technisch vakpersoneel en van stijgende onderhoudskosten is het efficiënter werken met de mensen die je hebt\, van groot belang. \nSchrijf je vandaag nog in met onderstaand registratieformulier!
URL:https://www.worldclassmaintenance.com/event/webinar-performanceverbetering-onderhoud/
CATEGORIES:Hands on Tool Time
ATTACH;FMTTYPE=image/jpeg:https://www.worldclassmaintenance.com/wp-content/uploads/2017/02/Hott.jpg
ORGANIZER;CN="World Class Maintenance":MAILTO:info@worldclassmaintenance.com
END:VEVENT
BEGIN:VEVENT
DTSTART;TZID=UTC:20171207T130000
DTEND;TZID=UTC:20171207T170000
DTSTAMP:20260423T220343
CREATED:20171114T121819Z
LAST-MODIFIED:20171114T121819Z
UID:2719-1512651600-1512666000@www.worldclassmaintenance.com
SUMMARY:HoTT on the Move
DESCRIPTION:Meer informatie volgt. Inschrijven kan hieronder.
URL:https://www.worldclassmaintenance.com/event/hott-on-the-move/
LOCATION:Fieldlab CAMPIONE\, Ericssonstraat 2\, Rijen
CATEGORIES:Hands on Tool Time
ATTACH;FMTTYPE=image/jpeg:https://www.worldclassmaintenance.com/wp-content/uploads/2017/11/DSC_0079.jpg
ORGANIZER;CN="World Class Maintenance":MAILTO:info@worldclassmaintenance.com
END:VEVENT
END:VCALENDAR