BEGIN:VCALENDAR
VERSION:2.0
PRODID:-//World Class Maintenance - ECPv6.15.18//NONSGML v1.0//EN
CALSCALE:GREGORIAN
METHOD:PUBLISH
X-WR-CALNAME:World Class Maintenance
X-ORIGINAL-URL:https://www.worldclassmaintenance.com
X-WR-CALDESC:Evenementen voor World Class Maintenance
REFRESH-INTERVAL;VALUE=DURATION:PT1H
X-Robots-Tag:noindex
X-PUBLISHED-TTL:PT1H
BEGIN:VTIMEZONE
TZID:Europe/Amsterdam
BEGIN:DAYLIGHT
TZOFFSETFROM:+0100
TZOFFSETTO:+0200
TZNAME:CEST
DTSTART:20230326T010000
END:DAYLIGHT
BEGIN:STANDARD
TZOFFSETFROM:+0200
TZOFFSETTO:+0100
TZNAME:CET
DTSTART:20231029T010000
END:STANDARD
BEGIN:DAYLIGHT
TZOFFSETFROM:+0100
TZOFFSETTO:+0200
TZNAME:CEST
DTSTART:20240331T010000
END:DAYLIGHT
BEGIN:STANDARD
TZOFFSETFROM:+0200
TZOFFSETTO:+0100
TZNAME:CET
DTSTART:20241027T010000
END:STANDARD
BEGIN:DAYLIGHT
TZOFFSETFROM:+0100
TZOFFSETTO:+0200
TZNAME:CEST
DTSTART:20250330T010000
END:DAYLIGHT
BEGIN:STANDARD
TZOFFSETFROM:+0200
TZOFFSETTO:+0100
TZNAME:CET
DTSTART:20251026T010000
END:STANDARD
BEGIN:DAYLIGHT
TZOFFSETFROM:+0100
TZOFFSETTO:+0200
TZNAME:CEST
DTSTART:20260329T010000
END:DAYLIGHT
BEGIN:STANDARD
TZOFFSETFROM:+0200
TZOFFSETTO:+0100
TZNAME:CET
DTSTART:20261025T010000
END:STANDARD
END:VTIMEZONE
BEGIN:VEVENT
DTSTART;TZID=Europe/Amsterdam:20251017T130000
DTEND;TZID=Europe/Amsterdam:20251017T170000
DTSTAMP:20260424T212951
CREATED:20250904T082307Z
LAST-MODIFIED:20251013T103253Z
UID:13816-1760706000-1760720400@www.worldclassmaintenance.com
SUMMARY:Open ecosysteem kwartaalbijeenkomst PEIBI-CONNECT
DESCRIPTION:Let op: Dit evenement is volgeboekt. Inschrijving is helaas niet meer mogelijk. \nWel geïnteresseerd?\nMeld je hier aan voor de follow-up of toekomstige edities. Zo blijf je als eerste op de hoogte zodra er nieuwe mogelijkheden zijn. \nPEIBI staat voor “Platform Effectief Isolatie Beheer in de Industrie” en CONNECT staat voor de verbinding die we met elkaar en tussen energiebeheer en systeemintegriteit maken. Dit platform vloeit voort uit de WCM Roadmap “Corrosie onder Isolatie” waarbinnen al veel kennis en een gevalideerde Best Practice Toolbox zijn ontwikkeld. \nPEIBI-CONNECT is een initiatief ván de industrie vóór de industrie en richt zich op het ontwikkelen en delen van kennis over het in standhouden van geïsoleerd leidingwerk (en drukvaten) in de industrie\, ter voorkoming van enerzijds Corrosie onder Isolatie en anderzijds energieverlies. \nDe radicale doelstelling van het platform is volledige controle binnen de industrie op dit domein met als gevolg minder incidenten\, minder kosten en minder energieverlies. \n \nOp 17 oktober volgt er weer een Open ecosysteem bijeenkomst. Deze keer wordt het gehouden bij Neste op de Maasvlakte. \n\n\n\n\n\nProgramma\n\n\n\n\n\n13:00\nWelkom en opening door Ferry Visser – WCM\n\n\n\n\n\nWelkom en introductie Neste door Jos de Visser – Neste\nNieuwe technologie; toepassingen door Dhr. Dekeukeleere – Isenspro\nToepassing on-line CUI metingen door Peter Janssen – Sitech\nResultaten self-assessment: wat valt er te leren? door Geert Henk Wijnants – WCM/Bilfinger\nHoe pakt Neste CUI aan? door Jos de Visser – Neste\n\n\n\n\n14:50\nPauze\n\n\n15:20\nVervolg presentaties:\n\n\n\n\n\nUpdate vanuit het toezicht door Sam Sierat – DCMR\nRecente ervaringen m.b.t. effectiviteit CUI/CUPS/EED management\nIntegratie CUPS met COI – hoe ver zijn we? door Geert Henk Wijnants – WCM/Bilfinger\nHoe betrekken we meer asset-owners bij ons netwerk? – Discussie\n\n\n\n\n17:00\nAfsluiting met hapje en drankje
URL:https://www.worldclassmaintenance.com/event/open-ecosysteem-kwartaalbijeenkomst-peibi-connect-2/
LOCATION:Neste Netherlands BV\, Antarticaweg 185\, Maasvlakte Rotterdam\, 3199 KA\, Netherlands
CATEGORIES:PEIBI-CONNECT
ATTACH;FMTTYPE=image/png:https://www.worldclassmaintenance.com/wp-content/uploads/2024/07/Afbeelding-engelstalige-flyer-web.png
END:VEVENT
BEGIN:VEVENT
DTSTART;TZID=Europe/Amsterdam:20250702T120000
DTEND;TZID=Europe/Amsterdam:20250702T123000
DTSTAMP:20260424T212951
CREATED:20250618T091548Z
LAST-MODIFIED:20250828T094547Z
UID:13691-1751457600-1751459400@www.worldclassmaintenance.com
SUMMARY:PEIBI-CONNECT webinar: CUPS (Corrosion Under Pipe Supports)
DESCRIPTION:Omdat er tijdens de laatste PEIBI-CONNECT bijeenkomst geen tijd meer was voor het onderwerp CUPS (Corrosion Under Pipe Supports) hebben we besloten om hier een kort lunchwebinar over te organiseren. \nMeer weten over CUPS (Corrosion under Pipe Suppports)? Neem dan op 2 juli om 12.00 uur deel aan het lunchwebinar over dit onderwerp waarin onderstaande vragen worden beantwoord: \n\nHoe ontstaat CUPS?\nWaar komt CUPS voor?\nWelke specifieke risico’s brengt CUPS met zich mee?\nWelke aanpak is bewezen effectief?\n\nNatuurlijk is er ook ruimte voor vragen. \nHet webinar wordt gefaciliteerd door Subject Matter Expert Geert Henk Wijnants vanuit de WCM PEIBI Community. \nMeld je hiervoor aan via onderstaand formulier.
URL:https://www.worldclassmaintenance.com/event/peibi-connect-webinar-cups-corrosion-under-pipe-supports/
LOCATION:Online
CATEGORIES:PEIBI-CONNECT
ATTACH;FMTTYPE=image/png:https://www.worldclassmaintenance.com/wp-content/uploads/2024/07/Afbeelding-engelstalige-flyer-web.png
END:VEVENT
BEGIN:VEVENT
DTSTART;VALUE=DATE:20250613
DTEND;VALUE=DATE:20250614
DTSTAMP:20260424T212951
CREATED:20250424T085004Z
LAST-MODIFIED:20250605T130452Z
UID:13610-1749772800-1749859199@www.worldclassmaintenance.com
SUMMARY:Open ecosysteem kwartaalbijeenkomst PEIBI-CONNECT
DESCRIPTION:PEIBI staat voor “Platform Effectief Isolatie Beheer in de Industrie” en CONNECT staat voor de verbinding die we met elkaar en tussen energiebeheer en systeemintegriteit maken. Dit platform vloeit voort uit de WCM Roadmap “Corrosie onder Isolatie” waarbinnen al veel kennis en een gevalideerde Best Practice Toolbox zijn ontwikkeld. \nPEIBI-CONNECT is een initiatief ván de industrie vóór de industrie en richt zich op het ontwikkelen en delen van kennis over het in standhouden van geïsoleerd leidingwerk (en drukvaten) in de industrie\, ter voorkoming van enerzijds Corrosie onder Isolatie en anderzijds energieverlies. \nDe radicale doelstelling van het platform is volledige controle binnen de industrie op dit domein met als gevolg minder incidenten\, minder kosten en minder energieverlies. \n \nOp 13 juni volgt er weer een Open ecosysteem bijeenkomst. Deze keer wordt het gehouden bij Heineken in Zoeterwoude. \nProgramma \n12.45  Ontvangst community leden en externe gasten\n13.00 Opening en welkom (Ferry Visser en John Campfens) \nExcursie langs leidingbrug en door brouwhuis \nPresentaties: \n\nbedrijfspresentatie (John Campfens)\nintroductie en update PEIBI CONNECT Community (Geert Henk Wijnants)\nstandaard van materialen bij isolatie koude leidingen door Erik den Toom\, Heineken\nonderhoudsplannen\, uitvoer van inspecties door Stijn van Duivendijk\, Heineken\n\nNetwerk pauze \nVervolg presentaties: \n\naanpak koude isolatie door Ingmar Moes\, Bilfinger\nspuitbare isolerende coatings door Vincent de Sy\, De Olifant\nCUPS aanpak door Geert Henk Wijnants\, Bilfinger\nafsluiting en ledenwerving door Ferry Visser\, WCM\n\nNapraten met hapje en drankje \nVoor deze interessante bijeenkomst met excursie in ’s-lands grootste brouwerij zijn een beperkt aantal plekken beschikbaar. \nHierbij geldt: vol = vol.  \nNa registratie ontvang je enkele dagen van tevoren een e-mail met ‘link’ naar de veiligheidsfilm die vooraf bekeken dient te worden en zorgt voor toegang bij de poort. Ook is het voor de excursie nodig om zelf veiligheidsschoenen en -hesje mee te nemen.  \nDeelnemen zonder aanmelding en registratie is niet mogelijk! Meld je dus snel aan als je erbij wil zijn.  \nAanmelden kan via onderstaand inschrijfformulier.
URL:https://www.worldclassmaintenance.com/event/open-ecosysteem-kwartaalbijeenkomst-peibi-connect/
LOCATION:Heineken\, Burgemeester Smeetsweg 1\, Zoeterwoude\, 2382 PH\, Nederland
CATEGORIES:Corrosie onder Isolatie,PEIBI-CONNECT
ATTACH;FMTTYPE=image/png:https://www.worldclassmaintenance.com/wp-content/uploads/2024/07/Afbeelding-engelstalige-flyer-web.png
END:VEVENT
BEGIN:VEVENT
DTSTART;TZID=Europe/Amsterdam:20250416T130000
DTEND;TZID=Europe/Amsterdam:20250416T140000
DTSTAMP:20260424T212951
CREATED:20250319T095744Z
LAST-MODIFIED:20250324T101212Z
UID:13558-1744808400-1744812000@www.worldclassmaintenance.com
SUMMARY:Online open ecosysteem kwartaalbijeenkomst PEIBI-CONNECT
DESCRIPTION:PEIBI staat voor “Platform Effectief Isolatie Beheer in de Industrie” en CONNECT staat voor de verbinding die we met elkaar – en tussen energiebeheer en systeemintegriteit maken. Dit platform vloeit voort uit de WCM Roadmap “Corrosie onder Isolatie” waarbinnen al veel kennis en een gevalideerde Best Practice Toolbox zijn ontwikkeld. \nPEIBI-CONNECT is een initiatief ván de industrie vóór de industrie en richt zich op het ontwikkelen en delen van kennis over het in standhouden van geïsoleerd leidingwerk (en drukvaten) in de industrie\, ter voorkoming van enerzijds Corrosie onder Isolatie en anderzijds energieverlies. \nDe radicale doelstelling van het platform is volledige controle binnen de industrie op dit domein met als gevolg minder incidenten\, minder kosten en minder energieverlies. \nProgramma online kwartaalbijeenkomst:\n\nWat is PEIBI-CONNECT – een introductie\nPEIBI-CONNECT bij Huntsman – een use-case door Bram Klijn\nEen update over de actuele wet en regelgeving door SME Sam Sierat\nRelevante nieuwe ontwikkelingen op het gebied van isolatiebeheer door Pascal Vermeulen van Bilfinger\nDe Community site – een korte demonstratie\nDe toekomst- onze roadmap\n\nSluit aan bij ons netwerk van professionals die kennis delen over het voorkomen van corrosie onder isolatie én het minimaliseren van energieverliezen en schrijf je via onderstaand formulier in voor deze webinar!
URL:https://www.worldclassmaintenance.com/event/online-open-ecosysteem-kwartaalbijeenkomst-peibi-connect/
LOCATION:Online
CATEGORIES:PEIBI-CONNECT
ATTACH;FMTTYPE=image/png:https://www.worldclassmaintenance.com/wp-content/uploads/2024/07/Afbeelding-engelstalige-flyer-web.png
END:VEVENT
BEGIN:VEVENT
DTSTART;TZID=Europe/Amsterdam:20241212T130000
DTEND;TZID=Europe/Amsterdam:20241212T170000
DTSTAMP:20260424T212951
CREATED:20241112T084003Z
LAST-MODIFIED:20241125T145806Z
UID:13386-1734008400-1734022800@www.worldclassmaintenance.com
SUMMARY:Tweede kwartaalbijeenkomst PEIBI-CONNECT
DESCRIPTION:PEIBI staat voor ”Platform Effectief Isolatie Beheer in de Industrie” en CONNECT staat voor de verbinding die we met elkaar – en tussen energiebeheer en systeemintegriteit maken. Dit platform vloeit voort uit de WCM Roadmap ‘Corrosie onder Isolatie’ waarbinnen al veel kennis en een gevalideerde Best Practice Toolbox zijn ontwikkeld. \nPEIBI-CONNECT is een initiatief ván de industrie vóór de industrie en richt zich op het ontwikkelen en delen van kennis over het in standhouden van geïsoleerd leidingwerk (en drukvaten) in de industrie\, ter voorkoming van enerzijds Corrosie onder Isolatie en anderzijds energieverlies. \nDe radicale doelstelling van het platform is volledige controle binnen de industrie op dit domein met als gevolg minder incidenten\, minder kosten en minder energieverlies. \nOp 12 december vindt de tweede kwartaalbijeenkomst plaats bij Bilfinger/Stork in Utrecht en iedereen is welkom. \nWelke onderwerpen kunt u verwachten? \n\nEnergy Efficiency Directive; van richtlijn naar praktische invulling – Laurens Thring\, Huntsman\nCUPS: momentele werkwijze; discussie met betrekking tot de meest effectieve aanpak en NDO technieken toegepast in het kader van CUPS bij Shell Moerdijk – Michel Huibregte en Hans Albers\, Shell\nIsolatie ontwerpeisen; gehanteerde criteria voor dikte in relatie tot de kosten van het vermogensverlies in de tijd; het vinden van de balans tussen CAPEX en OPEX\nOntwikkelingen in de verplichting voor conditiebepaling isolatie – Sam Sierat\, Isopedia\nKoude isolatie; validatie van de corrosiesnelheden zoals verwerkt in de best practise – Geert Henk Wijnants\, Stork/BIlfinger\nFramework voor Isolatie Energie Efficiency management: Validatie van de High Level Structure – Geert Henk Wijnants\, Stork/BIlfinger\nPEIBI-CONNECT in 2025: Roadmap en begroting – Ferry Visser\, World Class Maintenance
URL:https://www.worldclassmaintenance.com/event/tweede-kwartaalbijeenkomst-peibi-connect/
LOCATION:Stork\, Van Deventerlaan 121\, Utrecht\, 3528 AG
CATEGORIES:PEIBI-CONNECT
ATTACH;FMTTYPE=image/png:https://www.worldclassmaintenance.com/wp-content/uploads/2024/07/Afbeelding-engelstalige-flyer-web.png
END:VEVENT
BEGIN:VEVENT
DTSTART;TZID=Europe/Amsterdam:20240912T130000
DTEND;TZID=Europe/Amsterdam:20240912T170000
DTSTAMP:20260424T212951
CREATED:20240703T124739Z
LAST-MODIFIED:20240827T073622Z
UID:12838-1726146000-1726160400@www.worldclassmaintenance.com
SUMMARY:Eerste kwartaalbijeenkomst PEIBI-CONNECT
DESCRIPTION:PEIBI staat voor ”Platform Effectief Isolatie Beheer in de Industrie” en CONNECT staat voor de verbinding die we met elkaar – en tussen energiebeheer en systeemintegriteit maken. Dit platform vloeit voort uit de WCM Roadmap ‘Corrosie onder Isolatie’ waarbinnen al veel kennis en een gevalideerde Best Practice Toolbox zijn ontwikkeld. \nPEIBI-CONNECT is een initiatief ván de industrie vóór de industrie en richt zich op het ontwikkelen en delen van kennis over het in standhouden van geïsoleerd leidingwerk (en drukvaten) in de industrie\, ter voorkoming van enerzijds Corrosie onder Isolatie en anderzijds energieverlies. \nDe radicale doelstelling van het platform is volledige controle binnen de industrie op dit domein met als gevolg minder incidenten\, minder kosten en minder energieverlies. \nOp 12 september vindt de eerste kwartaalbijeenkomst plaats bij Huntsman en iedereen is welkom. Schrijf je snel in via onderstaand formulier. \nProgramma\n13.00 inloop \n13.30 opening en welkom door FV incl. doel en missie PEIBI-CONNECT Community \n13.40 welkom door Huntsman en korte introductie Huntsman \n14.00 introductie en presentatie van het PEIBI-CONNECT Community platform \n14.30 overzicht rapportage eisen en discussie rond wet-en regelgeving energiebesparing \n15.00 pauze \n15.30 externe isolatie-scan deskundige \n16.00 roadmap en leden werving \n16.30 borrel \n17.00 sluiting \nGraag tot 12 september! \n  \n 
URL:https://www.worldclassmaintenance.com/event/eerste-kwartaalbijeenkomst-peibi-connect/
LOCATION:Huntsman\, Rotterdam Botlek\, Nederland
CATEGORIES:Corrosie onder Isolatie,PEIBI-CONNECT
ATTACH;FMTTYPE=image/png:https://www.worldclassmaintenance.com/wp-content/uploads/2024/07/Afbeelding-engelstalige-flyer-web.png
END:VEVENT
END:VCALENDAR