BEGIN:VCALENDAR
VERSION:2.0
PRODID:-//World Class Maintenance - ECPv6.15.18//NONSGML v1.0//EN
CALSCALE:GREGORIAN
METHOD:PUBLISH
X-WR-CALNAME:World Class Maintenance
X-ORIGINAL-URL:https://www.worldclassmaintenance.com
X-WR-CALDESC:Evenementen voor World Class Maintenance
REFRESH-INTERVAL;VALUE=DURATION:PT1H
X-Robots-Tag:noindex
X-PUBLISHED-TTL:PT1H
BEGIN:VTIMEZONE
TZID:Europe/Amsterdam
BEGIN:DAYLIGHT
TZOFFSETFROM:+0100
TZOFFSETTO:+0200
TZNAME:CEST
DTSTART:20250330T010000
END:DAYLIGHT
BEGIN:STANDARD
TZOFFSETFROM:+0200
TZOFFSETTO:+0100
TZNAME:CET
DTSTART:20251026T010000
END:STANDARD
BEGIN:DAYLIGHT
TZOFFSETFROM:+0100
TZOFFSETTO:+0200
TZNAME:CEST
DTSTART:20260329T010000
END:DAYLIGHT
BEGIN:STANDARD
TZOFFSETFROM:+0200
TZOFFSETTO:+0100
TZNAME:CET
DTSTART:20261025T010000
END:STANDARD
BEGIN:DAYLIGHT
TZOFFSETFROM:+0100
TZOFFSETTO:+0200
TZNAME:CEST
DTSTART:20270328T010000
END:DAYLIGHT
BEGIN:STANDARD
TZOFFSETFROM:+0200
TZOFFSETTO:+0100
TZNAME:CET
DTSTART:20271031T010000
END:STANDARD
END:VTIMEZONE
BEGIN:VEVENT
DTSTART;VALUE=DATE:20260824
DTEND;VALUE=DATE:20260829
DTSTAMP:20260424T211007
CREATED:20260127T130515Z
LAST-MODIFIED:20260218T120441Z
UID:14283-1787529600-1787961599@www.worldclassmaintenance.com
SUMMARY:15th WCM Summer School on Maintenance Management & Engineering
DESCRIPTION:Dit jaar werken we samen met de Koninklijke Marine aan een unieke case in Den Helder. Een intensieve week vol leren\, netwerken en innovatie voor young professionals. \nPraktijkcase Koninklijke Marine \nDe Koninklijke Marine staat voor de introductie van nieuwe schepen\, terwijl bemanningsreductie en toenemende systeemcomplexiteit het onderhoud uitdagender maken. Daarom werkt de Marine aan de overgang van gepland onderhoud naar conditiegericht en voorspellend onderhoud. Tijdens de 15e editie van de WCM Summer School staat de vraag centraal hoe de Marine samen met publieke partners onderhoudsinnovaties kan inzetten om deze transitie te realiseren. \nDe WCM Summer School onderscheidt zich vanwege het unieke multidisciplinaire perspectief op onderhoud\, het werken aan een echte business case\, de begeleiding door top-hoogleraren op dit gebied en de mix van veelbelovende Master-\, PDEng- en PhD-studenten maar vooral ook young professionals. De contacten die hier gelegd worden\, zijn vaak de basis voor een waardevol netwerk. \nMeer informatie en aanmelding kan via de website van de WCM Summer School.
URL:https://www.worldclassmaintenance.com/event/15th-wcm-summer-school-on-maintenance-management-engineering/
LOCATION:Defensie\, Den Helder
CATEGORIES:WCM Summer School,World Class Maintenance
ATTACH;FMTTYPE=image/png:https://www.worldclassmaintenance.com/wp-content/uploads/2026/01/WCMSummerSchool_header_2026_psd_announce_Summer_school-versieB.png
END:VEVENT
END:VCALENDAR