BEGIN:VCALENDAR
VERSION:2.0
PRODID:-//World Class Maintenance - ECPv6.15.18//NONSGML v1.0//EN
CALSCALE:GREGORIAN
METHOD:PUBLISH
X-ORIGINAL-URL:https://www.worldclassmaintenance.com
X-WR-CALDESC:Evenementen voor World Class Maintenance
REFRESH-INTERVAL;VALUE=DURATION:PT1H
X-Robots-Tag:noindex
X-PUBLISHED-TTL:PT1H
BEGIN:VTIMEZONE
TZID:Europe/Amsterdam
BEGIN:DAYLIGHT
TZOFFSETFROM:+0100
TZOFFSETTO:+0200
TZNAME:CEST
DTSTART:20190331T010000
END:DAYLIGHT
BEGIN:STANDARD
TZOFFSETFROM:+0200
TZOFFSETTO:+0100
TZNAME:CET
DTSTART:20191027T010000
END:STANDARD
BEGIN:DAYLIGHT
TZOFFSETFROM:+0100
TZOFFSETTO:+0200
TZNAME:CEST
DTSTART:20200329T010000
END:DAYLIGHT
BEGIN:STANDARD
TZOFFSETFROM:+0200
TZOFFSETTO:+0100
TZNAME:CET
DTSTART:20201025T010000
END:STANDARD
BEGIN:DAYLIGHT
TZOFFSETFROM:+0100
TZOFFSETTO:+0200
TZNAME:CEST
DTSTART:20210328T010000
END:DAYLIGHT
BEGIN:STANDARD
TZOFFSETFROM:+0200
TZOFFSETTO:+0100
TZNAME:CET
DTSTART:20211031T010000
END:STANDARD
END:VTIMEZONE
BEGIN:VEVENT
DTSTART;TZID=Europe/Amsterdam:20201117T150000
DTEND;TZID=Europe/Amsterdam:20201117T170000
DTSTAMP:20260423T134306
CREATED:20201026T163908Z
LAST-MODIFIED:20201204T141157Z
UID:7566-1605625200-1605632400@www.worldclassmaintenance.com
SUMMARY:Online event Campione 2 | Smart industry voor MKB Midden- en West-Brabant
DESCRIPTION:Ontdek en implementeer versneld de mogelijkheden van smart maintenance\, toegepast op het eigen bedrijf. Tijdens het event op dinsdag 17 november hoor je alles voor een succesvolle start met Smart industry. \n  \nDe video’s en de presentaties van de workshop zijn hier in te zien. \n  \nProgramma Online event\n \n  \nFieldlab Campione 2\nWorld Class Maintenance\, Avans Hogeschool\, de regionale ontwikkelingsmaatschappijen Midpoint Brabant\, Rewin en BOM hebben met Fieldlab Campione 2 de krachten gebundeld om het regionale MKB in Midden- en West-Brabant de kansen van Smart Industry te laten verzilveren. \nOpen innovatievorm met ruimte voor experiment\nCampione 2 is een doorontwikkeling vanuit het nationale Fieldlab Campione\, waarin het MKB gaat experimenteren met de mogelijkheden van Smart industry (data science\, IoT\, VR/AR) gericht op eigen ingebrachte casussen\, waarna de praktische doorvertaling van Smart industry naar de eigen organisatie makkelijker wordt. In samenwerking met het Fieldlab Breda Robotics (robotica) schenkt Campione 2 aandacht aan de harde kant van Smart industry (technologie en innovatie) en aan de zachte kant (skills) en organisatorische aspecten (o.a. nieuwe\, concrete business cases). \nSubsidie en begeleiding op maat\nAvans Hogeschool start intensieve trajecten met regionale MKB-bedrijven om ze te helpen met het operationaliseren van smart maintenance-toepassingen. Naast deze begeleiding komt een MKB-bedrijf in aanmerking voor subsidie op de eigen investering (in uren of kosten) met betrekking tot de implementatie van smart maintenance-oplossingen. De bedrijven die we aanschrijven en selecteren\, vragen we om mee te werken aan (voor nu nog digitale) bijeenkomsten ter inspiratie van collega-bedrijven. \nPaul van Kempen\, operationeel directeur World Class Maintenance:\n“Jaarlijks selecteren we drie tot vijf MKB-bedrijven – dat kan gaan van een koekjesfabriek tot aan een leverancier van high tech productielijnen – die we helpen innoveren op het gebied van slim onderhoud. De successen daarvan delen we\, om anderen weer te inspireren. Zo hopen we dat smart maintenance zich als een olievlek verspreidt in onze provincie. Zodat iedere ondernemer\, groot of klein\, mee kan profiteren van de nieuwste en beste mogelijkheden op dit vlak.” \nDoorontwikkeling Fieldlab Campione\nOp het Fieldlab Campione in Rijen is de afgelopen 5 jaar veel kennis ontwikkeld en ervaring opgedaan met de vertaling van Smart Industry naar concrete toepassingen en business cases. Hierbij stonden toepassingen op het gebied van smart maintenance en service centraal\, met inbreng van toonaangevende bedrijven als Sitech\, Fujifilm\, Tata en kennisinstellingen als ROC Tilburg\, Avans Hogeschool en Tilburg University. Dit heeft landelijk geleid tot verbeteringen en kostenbesparingen op het gebied van onderhoud aan productielijnen en tot nieuwe service business voor toeleveranciers. \nPaul van Kempen:\n“In Fieldlab Campione gebeurt al wat WCM het liefst ziet: dat inzichten die we bij de één verkrijgen ook gedeeld worden met andere partijen. Er zijn al mooie business cases in Campione bereikt. MKB-ers in de regio die met Smart industry willen starten\, ondersteunen wij met de kennis\, ervaring en de infrastructuur van Campione.” \n \n  \n 
URL:https://www.worldclassmaintenance.com/event/online-event-campione-2-smart-industry-voor-mkb-midden-en-west-brabant/
CATEGORIES:Fieldlab CAMPIONE 2
ATTACH;FMTTYPE=image/png:https://www.worldclassmaintenance.com/wp-content/uploads/2020/04/Fieldlab-Campione-2-met-subsidiegevers.png
END:VEVENT
END:VCALENDAR